BEGIN:VCALENDAR
VERSION:2.0
PRODID:-//GRK 2905 - Ultrafast Nanoscopy - ECPv6.6.4.1//NONSGML v1.0//EN
CALSCALE:GREGORIAN
METHOD:PUBLISH
X-WR-CALNAME:GRK 2905 - Ultrafast Nanoscopy
X-ORIGINAL-URL:https://grk2905.de
X-WR-CALDESC:Events for GRK 2905 - Ultrafast Nanoscopy
REFRESH-INTERVAL;VALUE=DURATION:PT1H
X-Robots-Tag:noindex
X-PUBLISHED-TTL:PT1H
BEGIN:VTIMEZONE
TZID:Europe/Berlin
BEGIN:DAYLIGHT
TZOFFSETFROM:+0100
TZOFFSETTO:+0200
TZNAME:CEST
DTSTART:20260329T010000
END:DAYLIGHT
BEGIN:STANDARD
TZOFFSETFROM:+0200
TZOFFSETTO:+0100
TZNAME:CET
DTSTART:20261025T010000
END:STANDARD
END:VTIMEZONE
BEGIN:VEVENT
DTSTART;TZID=Europe/Berlin:20260420T160000
DTEND;TZID=Europe/Berlin:20260420T170000
DTSTAMP:20260420T030743
CREATED:20260326T141043Z
LAST-MODIFIED:20260326T162112Z
UID:2013-1776700800-1776704400@grk2905.de
SUMMARY:RTG Colloquium jointly held with the Physics Colloquium: Oliver Graydon
DESCRIPTION:The role of AI in scientific publishing\n\n\n\nChief Editor Nature PhotonicsSpringer Nature\, UK \n\n\n\n \n\n\n\nArtificial intelligence (AI) is set to bring profound transformations in how science is conducted and communicated. This talk with discuss the trends\, opportunities\, risks and challenges associated with AI from the viewpoint of scientific publishing with a focus on clarifying the present policies and principles at Nature journals and Springer-Nature. \n\n\n\n \n\n\n\n \n\n\n\n \n\n\n\nVenue: H34
URL:https://grk2905.de/event/rtg-colloquium-jointly-held-with-the-physics-colloquium-oliver-graydon/
ATTACH;FMTTYPE=image/jpeg:https://grk2905.de/wp-content/uploads/2026/03/oliver-photon-2-hi-res-scaled.jpg
END:VEVENT
END:VCALENDAR