BEGIN:VCALENDAR
VERSION:2.0
PRODID:-//GRK 2905 - Ultrafast Nanoscopy - ECPv6.6.4.1//NONSGML v1.0//EN
CALSCALE:GREGORIAN
METHOD:PUBLISH
X-ORIGINAL-URL:https://grk2905.de
X-WR-CALDESC:Events for GRK 2905 - Ultrafast Nanoscopy
REFRESH-INTERVAL;VALUE=DURATION:PT1H
X-Robots-Tag:noindex
X-PUBLISHED-TTL:PT1H
BEGIN:VTIMEZONE
TZID:Europe/Berlin
BEGIN:DAYLIGHT
TZOFFSETFROM:+0100
TZOFFSETTO:+0200
TZNAME:CEST
DTSTART:20250330T010000
END:DAYLIGHT
BEGIN:STANDARD
TZOFFSETFROM:+0200
TZOFFSETTO:+0100
TZNAME:CET
DTSTART:20251026T010000
END:STANDARD
END:VTIMEZONE
BEGIN:VEVENT
DTSTART;TZID=Europe/Berlin:20250718T100000
DTEND;TZID=Europe/Berlin:20250718T120000
DTSTAMP:20260424T143100
CREATED:20250630T100507Z
LAST-MODIFIED:20260326T162339Z
UID:1720-1752832800-1752840000@grk2905.de
SUMMARY:RTG Seminar: Ryo Shimano
DESCRIPTION:Higgs mode in superconductors studied by nonlinear terahertz spectroscopy Cryogenic Research Center & Department of Physics \n\n\n\nThe University of Tokio \n\n\n\ng \n\n\n\nRecent developments of experimental techniques based on ultrafast spectroscopy have enabled the access to low energy collective modes in quantum materials in a time-resolved manner. In particular\, the amplitude mode of the order parameter in superconductors\, called the Higgs amplitude mode\, has attracted a growing interest from the viewpoint of non-equilibrium dynamics in symmetry-broken ordered phases. In this presentation\, I will introduce the study of the Higgs mode and other collective modes in conventional and unconventional superconductors using various nonlinear terahertz spectroscopic schemes. \n\n\n\n \n\n\n\nVenue: RUN Auditorium
URL:https://grk2905.de/event/grk-seminar-ryo-shimano/
CATEGORIES:Seminar
ATTACH;FMTTYPE=image/jpeg:https://grk2905.de/wp-content/uploads/2025/06/Shimano-Ryo.jpg
END:VEVENT
END:VCALENDAR